BEGIN:VCALENDAR
VERSION:2.0
PRODID:-//SADC - Banking Association - ECPv6.15.13.1//NONSGML v1.0//EN
CALSCALE:GREGORIAN
METHOD:PUBLISH
X-ORIGINAL-URL:https://sadcbanking.org
X-WR-CALDESC:Events for SADC - Banking Association
REFRESH-INTERVAL;VALUE=DURATION:PT1H
X-Robots-Tag:noindex
X-PUBLISHED-TTL:PT1H
BEGIN:VTIMEZONE
TZID:Africa/Johannesburg
BEGIN:STANDARD
TZOFFSETFROM:+0200
TZOFFSETTO:+0200
TZNAME:SAST
DTSTART:20240101T000000
END:STANDARD
END:VTIMEZONE
BEGIN:VEVENT
DTSTART;TZID=Africa/Johannesburg:20250617T090000
DTEND;TZID=Africa/Johannesburg:20250619T163000
DTSTAMP:20260423T071351
CREATED:20241218T054753Z
LAST-MODIFIED:20250314T055044Z
UID:3392-1750150800-1750350600@sadcbanking.org
SUMMARY:AML/CFT Compliance – Zimbabwe
DESCRIPTION:Next Course Dates\nRegistration Close\n27 May 2025 \nCourse Starts\n17 June 2025 \nDuration\n3 Days \nCost\nR14 000.00 \nLocation\nZimbabwe \nVenue\nTo be advised \nJoin as a Participant
URL:https://sadcbanking.org/event/aml-cft-compliance-2/
END:VEVENT
BEGIN:VEVENT
DTSTART;TZID=Africa/Johannesburg:20250618T090000
DTEND;TZID=Africa/Johannesburg:20250619T130000
DTSTAMP:20260423T071351
CREATED:20250603T090254Z
LAST-MODIFIED:20250603T090254Z
UID:3600-1750237200-1750338000@sadcbanking.org
SUMMARY:SADC-RTGS Payments Training – Gaborone\, Botswana
DESCRIPTION:Next Course Dates\nRegistration Close\n17 June 2025 \nCourse Starts\n18 June 2025 \nDuration\n1 & ½ Days \nCost\nR5\,175.00 \nTime\n18 June 2025 – 9:00 – 16:30\n19 June 2025 – 9:00 – 13:00 \nLocation\nGaborone\, Botswana \nVenue\nTo be advised \nJoin as a Participant
URL:https://sadcbanking.org/event/sadc-rtgs-payments-training-9-2/
END:VEVENT
END:VCALENDAR