BEGIN:VCALENDAR
VERSION:2.0
PRODID:-//SADC - Banking Association - ECPv6.15.13.1//NONSGML v1.0//EN
CALSCALE:GREGORIAN
METHOD:PUBLISH
X-WR-CALNAME:SADC - Banking Association
X-ORIGINAL-URL:https://sadcbanking.org
X-WR-CALDESC:Events for SADC - Banking Association
REFRESH-INTERVAL;VALUE=DURATION:PT1H
X-Robots-Tag:noindex
X-PUBLISHED-TTL:PT1H
BEGIN:VTIMEZONE
TZID:Africa/Johannesburg
BEGIN:STANDARD
TZOFFSETFROM:+0200
TZOFFSETTO:+0200
TZNAME:SAST
DTSTART:20240101T000000
END:STANDARD
END:VTIMEZONE
BEGIN:VEVENT
DTSTART;TZID=Africa/Johannesburg:20250916T090000
DTEND;TZID=Africa/Johannesburg:20250918T130000
DTSTAMP:20260423T010549
CREATED:20241218T055120Z
LAST-MODIFIED:20250314T054601Z
UID:3394-1758013200-1758200400@sadcbanking.org
SUMMARY:AML/CFT Compliance – Gaborone\, Botswana
DESCRIPTION:Next Course Dates\nRegistration Close\n19 August 2025 \nCourse Starts\n16 September 2025 \nDuration\n1 & 1/2 Days \nCost\nR14 000.00 \nTime\n16 September 2025 – 9:00 – 16:30\n17 September 2025 – 9:00 – 13:00 \nLocation\nGaborone\, Botswana \nVenue\nTo be advised \nJoin as a Participant
URL:https://sadcbanking.org/event/aml-cft-compliance-3/
END:VEVENT
END:VCALENDAR